BEGIN:VCALENDAR
VERSION:2.0
PRODID:-//USETDA - ECPv6.15.20//NONSGML v1.0//EN
CALSCALE:GREGORIAN
METHOD:PUBLISH
X-WR-CALNAME:USETDA
X-ORIGINAL-URL:https://www.usetda.org
X-WR-CALDESC:Events for USETDA
REFRESH-INTERVAL;VALUE=DURATION:PT1H
X-Robots-Tag:noindex
X-PUBLISHED-TTL:PT1H
BEGIN:VTIMEZONE
TZID:America/New_York
BEGIN:DAYLIGHT
TZOFFSETFROM:-0500
TZOFFSETTO:-0400
TZNAME:EDT
DTSTART:20250309T070000
END:DAYLIGHT
BEGIN:STANDARD
TZOFFSETFROM:-0400
TZOFFSETTO:-0500
TZNAME:EST
DTSTART:20251102T060000
END:STANDARD
BEGIN:DAYLIGHT
TZOFFSETFROM:-0500
TZOFFSETTO:-0400
TZNAME:EDT
DTSTART:20260308T070000
END:DAYLIGHT
BEGIN:STANDARD
TZOFFSETFROM:-0400
TZOFFSETTO:-0500
TZNAME:EST
DTSTART:20261101T060000
END:STANDARD
BEGIN:DAYLIGHT
TZOFFSETFROM:-0500
TZOFFSETTO:-0400
TZNAME:EDT
DTSTART:20270314T070000
END:DAYLIGHT
BEGIN:STANDARD
TZOFFSETFROM:-0400
TZOFFSETTO:-0500
TZNAME:EST
DTSTART:20271107T060000
END:STANDARD
END:VTIMEZONE
BEGIN:VEVENT
DTSTART;TZID=America/New_York:20260923T090000
DTEND;TZID=America/New_York:20260925T120000
DTSTAMP:20260423T015911
CREATED:20260402T013933Z
LAST-MODIFIED:20260402T014807Z
UID:10000104-1790154000-1790337600@www.usetda.org
SUMMARY:USETDA 2026 Conference
DESCRIPTION:USETDA 2026\, the 16th national US conference on ETDs\, will be held September 23-25\, 2026 at the Renaissance Hotel in Toledo\, Ohio and as an online hybrid event via Webex. This conference is co-organized by the USETDA (United States Electronic Thesis and Dissertation Association) and the University of Toledo College of Graduate Studies. For complete details visit our Web page. \nNote: In order to receive discounted member registration rates\, you must login and you must be currently enrolled in an institutional or individual membership subscription plan before placing your ticket order. The registration fee is the same for in-person or virtual attendance; you will be prompted to indicate your attendance mode in our registration form. Registration will close on Sunday\, September 13\, 2026.
URL:https://www.usetda.org/event/usetda-2026-conference/
LOCATION:Renaissance Hotel\, Toledo\, OH\, 444 N Summit Street\, Toledo\, OH\, 43604\, United States
CATEGORIES:Conferences
ORGANIZER;CN="United States Electronic Thesis and Dissertation Association":MAILTO:info@usetda.org
END:VEVENT
END:VCALENDAR