BEGIN:VCALENDAR
VERSION:2.0
PRODID:-//USETDA - ECPv6.15.20//NONSGML v1.0//EN
CALSCALE:GREGORIAN
METHOD:PUBLISH
X-ORIGINAL-URL:https://www.usetda.org
X-WR-CALDESC:Events for USETDA
REFRESH-INTERVAL;VALUE=DURATION:PT1H
X-Robots-Tag:noindex
X-PUBLISHED-TTL:PT1H
BEGIN:VTIMEZONE
TZID:America/New_York
BEGIN:DAYLIGHT
TZOFFSETFROM:-0500
TZOFFSETTO:-0400
TZNAME:EDT
DTSTART:20230312T070000
END:DAYLIGHT
BEGIN:STANDARD
TZOFFSETFROM:-0400
TZOFFSETTO:-0500
TZNAME:EST
DTSTART:20231105T060000
END:STANDARD
BEGIN:DAYLIGHT
TZOFFSETFROM:-0500
TZOFFSETTO:-0400
TZNAME:EDT
DTSTART:20240310T070000
END:DAYLIGHT
BEGIN:STANDARD
TZOFFSETFROM:-0400
TZOFFSETTO:-0500
TZNAME:EST
DTSTART:20241103T060000
END:STANDARD
BEGIN:DAYLIGHT
TZOFFSETFROM:-0500
TZOFFSETTO:-0400
TZNAME:EDT
DTSTART:20250309T070000
END:DAYLIGHT
BEGIN:STANDARD
TZOFFSETFROM:-0400
TZOFFSETTO:-0500
TZNAME:EST
DTSTART:20251102T060000
END:STANDARD
END:VTIMEZONE
BEGIN:VEVENT
DTSTART;TZID=America/New_York:20241104T090000
DTEND;TZID=America/New_York:20241106T170000
DTSTAMP:20260423T033319
CREATED:20240314T034450Z
LAST-MODIFIED:20240715T220219Z
UID:10000056-1730710800-1730912400@www.usetda.org
SUMMARY:ETD 2024 Symposium
DESCRIPTION:ETD 2024\, the 27th international symposium on electronic theses and dissertations\, will be held November 4 – 6\, 2024 in Livingstone\, Zambia. For additional information visit the ETD 2024 Website. This conference is organized by the NDLTD\, the University of Zambia\, the Higher Education Authority and the Zambia Research and Education Network.
URL:https://www.usetda.org/event/etd-2024-symposium/
LOCATION:Livingstone\, Zambia\, Zambia
END:VEVENT
END:VCALENDAR