BEGIN:VCALENDAR
VERSION:2.0
PRODID:-//USETDA - ECPv6.15.20//NONSGML v1.0//EN
CALSCALE:GREGORIAN
METHOD:PUBLISH
X-WR-CALNAME:USETDA
X-ORIGINAL-URL:https://www.usetda.org
X-WR-CALDESC:Events for USETDA
REFRESH-INTERVAL;VALUE=DURATION:PT1H
X-Robots-Tag:noindex
X-PUBLISHED-TTL:PT1H
BEGIN:VTIMEZONE
TZID:America/New_York
BEGIN:DAYLIGHT
TZOFFSETFROM:-0500
TZOFFSETTO:-0400
TZNAME:EDT
DTSTART:20240310T070000
END:DAYLIGHT
BEGIN:STANDARD
TZOFFSETFROM:-0400
TZOFFSETTO:-0500
TZNAME:EST
DTSTART:20241103T060000
END:STANDARD
BEGIN:DAYLIGHT
TZOFFSETFROM:-0500
TZOFFSETTO:-0400
TZNAME:EDT
DTSTART:20250309T070000
END:DAYLIGHT
BEGIN:STANDARD
TZOFFSETFROM:-0400
TZOFFSETTO:-0500
TZNAME:EST
DTSTART:20251102T060000
END:STANDARD
BEGIN:DAYLIGHT
TZOFFSETFROM:-0500
TZOFFSETTO:-0400
TZNAME:EDT
DTSTART:20260308T070000
END:DAYLIGHT
BEGIN:STANDARD
TZOFFSETFROM:-0400
TZOFFSETTO:-0500
TZNAME:EST
DTSTART:20261101T060000
END:STANDARD
END:VTIMEZONE
BEGIN:VEVENT
DTSTART;TZID=America/New_York:20250514T140000
DTEND;TZID=America/New_York:20250514T150000
DTSTAMP:20260425T091257
CREATED:20250107T204342Z
LAST-MODIFIED:20251117T194027Z
UID:10000060-1747231200-1747234800@www.usetda.org
SUMMARY:ETD Formatting User’s Group Meeting
DESCRIPTION:Join the discussion on the past year’s challenges\, issues and successes in the field\, and to share knowledge and resources with colleagues bimonthly via Zoom. To participate in user group discussions\, you should complete this form. If you’re already a user group member and need the Zoom meeting details\, please contact Sally Evans at sevans13@gmu.edu.
URL:https://www.usetda.org/event/etd-formatting-users-group-meeting-3-2/2025-05-14/
LOCATION:OH
CATEGORIES:Community,ETD Formatting
ORGANIZER;CN="United States Electronic Thesis and Dissertation Association":MAILTO:info@usetda.org
END:VEVENT
END:VCALENDAR