BEGIN:VCALENDAR
VERSION:2.0
PRODID:-//USETDA - ECPv6.15.20//NONSGML v1.0//EN
CALSCALE:GREGORIAN
METHOD:PUBLISH
X-ORIGINAL-URL:https://www.usetda.org
X-WR-CALDESC:Events for USETDA
REFRESH-INTERVAL;VALUE=DURATION:PT1H
X-Robots-Tag:noindex
X-PUBLISHED-TTL:PT1H
BEGIN:VTIMEZONE
TZID:America/New_York
BEGIN:DAYLIGHT
TZOFFSETFROM:-0500
TZOFFSETTO:-0400
TZNAME:EDT
DTSTART:20220313T070000
END:DAYLIGHT
BEGIN:STANDARD
TZOFFSETFROM:-0400
TZOFFSETTO:-0500
TZNAME:EST
DTSTART:20221106T060000
END:STANDARD
BEGIN:DAYLIGHT
TZOFFSETFROM:-0500
TZOFFSETTO:-0400
TZNAME:EDT
DTSTART:20230312T070000
END:DAYLIGHT
BEGIN:STANDARD
TZOFFSETFROM:-0400
TZOFFSETTO:-0500
TZNAME:EST
DTSTART:20231105T060000
END:STANDARD
BEGIN:DAYLIGHT
TZOFFSETFROM:-0500
TZOFFSETTO:-0400
TZNAME:EDT
DTSTART:20240310T070000
END:DAYLIGHT
BEGIN:STANDARD
TZOFFSETFROM:-0400
TZOFFSETTO:-0500
TZNAME:EST
DTSTART:20241103T060000
END:STANDARD
END:VTIMEZONE
BEGIN:VEVENT
DTSTART;TZID=America/New_York:20230920T100000
DTEND;TZID=America/New_York:20230921T170000
DTSTAMP:20260425T212341
CREATED:20230412T195347Z
LAST-MODIFIED:20231228T084200Z
UID:10000013-1695204000-1695315600@www.usetda.org
SUMMARY:USETDA 2023 Conference
DESCRIPTION:The USETDA 2023 Conference will be held September 20 – 21\, 2023 as a virtual event via Zoom\, organized by the USETDA. For more information about the conference visit our Webpage. Prior to ordering conference registration tickets\, please review our Registration Information.
URL:https://www.usetda.org/event/usetda-2023-conference/
LOCATION:OH
CATEGORIES:Conferences
ORGANIZER;CN="United States Electronic Thesis and Dissertation Association":MAILTO:info@usetda.org
END:VEVENT
END:VCALENDAR