BEGIN:VCALENDAR
VERSION:2.0
PRODID:-//USETDA - ECPv6.15.20//NONSGML v1.0//EN
CALSCALE:GREGORIAN
METHOD:PUBLISH
X-ORIGINAL-URL:https://www.usetda.org
X-WR-CALDESC:Events for USETDA
REFRESH-INTERVAL;VALUE=DURATION:PT1H
X-Robots-Tag:noindex
X-PUBLISHED-TTL:PT1H
BEGIN:VTIMEZONE
TZID:America/New_York
BEGIN:DAYLIGHT
TZOFFSETFROM:-0500
TZOFFSETTO:-0400
TZNAME:EDT
DTSTART:20250309T070000
END:DAYLIGHT
BEGIN:STANDARD
TZOFFSETFROM:-0400
TZOFFSETTO:-0500
TZNAME:EST
DTSTART:20251102T060000
END:STANDARD
BEGIN:DAYLIGHT
TZOFFSETFROM:-0500
TZOFFSETTO:-0400
TZNAME:EDT
DTSTART:20260308T070000
END:DAYLIGHT
BEGIN:STANDARD
TZOFFSETFROM:-0400
TZOFFSETTO:-0500
TZNAME:EST
DTSTART:20261101T060000
END:STANDARD
BEGIN:DAYLIGHT
TZOFFSETFROM:-0500
TZOFFSETTO:-0400
TZNAME:EDT
DTSTART:20270314T070000
END:DAYLIGHT
BEGIN:STANDARD
TZOFFSETFROM:-0400
TZOFFSETTO:-0500
TZNAME:EST
DTSTART:20271107T060000
END:STANDARD
END:VTIMEZONE
BEGIN:VEVENT
DTSTART;TZID=America/New_York:20261118T140000
DTEND;TZID=America/New_York:20261118T150000
DTSTAMP:20260425T063307
CREATED:20260216T194541Z
LAST-MODIFIED:20260216T231949Z
UID:10000093-1795010400-1795014000@www.usetda.org
SUMMARY:Community Engagement Group Meeting
DESCRIPTION:The USETDA Community Engagement Group was founded in 2021 to continue important conversations among members outside of the yearly conference. This group focuses on identifying opportunities for members to learn more about important topics in the ever-changing thesis landscape\, promoting professional development among members\, and creating a space for networking. Themes we will consider include: \n\nexploring resources and tools to help us advise students and other university stakeholders;\nbuilding connections throughout campus to support the student experience;\nlearning tips for navigating campus policies and processes\, starting conversations\, and recommending changes;\nconsidering the changing role of thesis reviewers in the graduate school and/or library and advocating for the professionalization of the role; and\ncreating a supportive community among ETD professionals that promotes self-advocacy and self-care.\n\nOur bimonthly meetings may vary in format\, with some being led by USETDA members and others featuring invited guests. Anyone interested in suggesting a topic or signing up to participate in the group should complete this form. If you have questions please contact us at info@usetda.org.
URL:https://www.usetda.org/event/community-engagement-group-meeting-7/2026-11-18/
CATEGORIES:Community Engagement
ORGANIZER;CN="United States Electronic Thesis and Dissertation Association":MAILTO:info@usetda.org
END:VEVENT
END:VCALENDAR