BEGIN:VCALENDAR
VERSION:2.0
PRODID:-//USETDA - ECPv6.15.20//NONSGML v1.0//EN
CALSCALE:GREGORIAN
METHOD:PUBLISH
X-ORIGINAL-URL:https://www.usetda.org
X-WR-CALDESC:Events for USETDA
REFRESH-INTERVAL;VALUE=DURATION:PT1H
X-Robots-Tag:noindex
X-PUBLISHED-TTL:PT1H
BEGIN:VTIMEZONE
TZID:America/New_York
BEGIN:DAYLIGHT
TZOFFSETFROM:-0500
TZOFFSETTO:-0400
TZNAME:EDT
DTSTART:20230312T070000
END:DAYLIGHT
BEGIN:STANDARD
TZOFFSETFROM:-0400
TZOFFSETTO:-0500
TZNAME:EST
DTSTART:20231105T060000
END:STANDARD
BEGIN:DAYLIGHT
TZOFFSETFROM:-0500
TZOFFSETTO:-0400
TZNAME:EDT
DTSTART:20240310T070000
END:DAYLIGHT
BEGIN:STANDARD
TZOFFSETFROM:-0400
TZOFFSETTO:-0500
TZNAME:EST
DTSTART:20241103T060000
END:STANDARD
BEGIN:DAYLIGHT
TZOFFSETFROM:-0500
TZOFFSETTO:-0400
TZNAME:EDT
DTSTART:20250309T070000
END:DAYLIGHT
BEGIN:STANDARD
TZOFFSETFROM:-0400
TZOFFSETTO:-0500
TZNAME:EST
DTSTART:20251102T060000
END:STANDARD
END:VTIMEZONE
BEGIN:VEVENT
DTSTART;TZID=America/New_York:20240228T140000
DTEND;TZID=America/New_York:20240228T150000
DTSTAMP:20260425T233847
CREATED:20250210T142142Z
LAST-MODIFIED:20250210T151440Z
UID:10000051-1709128800-1709132400@www.usetda.org
SUMMARY:Community Engagement Group Meeting
DESCRIPTION:Join us online to discuss a variety community engagement topics for our Community Engagement Group sessions. Our bimonthly meetings may vary in format\, with some being led by USETDA members and others featuring invited guests. You can visit the CEG Webpage at https://www.usetda.org/community/community-engagement-group/. Anyone interested in signing up to participate in the group should complete this form. If you have questions or would like to suggest a topic\, please contact Kristin Terrill  at kterrill@iastate.edu. \nAll meetings held from 1:00 pm – 2:30 pm Central (2:00 pm – 3:30 pm Eastern) \n\nFebruary 12 – Group member introductions\, 2025 individual goal-setting\nApril 9 – Virtual Ceremonial Tea\nJune 11 – Talk about pets!\nAugust 13 – Grantsmanship (possible guest facilitator\, Lily Compton)\nSeptember 25 (USETDA 2025 Conference Meeting) – Flash Talks\nOctober 8 – Career planning/professional development for Alt-Ac professionals and Resume/CV workshop
URL:https://www.usetda.org/event/community-engagement-group-meeting-5-3/
CATEGORIES:Community,Community Engagement
ORGANIZER;CN="United States Electronic Thesis and Dissertation Association":MAILTO:info@usetda.org
END:VEVENT
END:VCALENDAR